BEGIN:VCALENDAR
VERSION:2.0
PRODID:-//Elville and Associates Blog - ECPv6.15.11//NONSGML v1.0//EN
CALSCALE:GREGORIAN
METHOD:PUBLISH
X-WR-CALNAME:Elville and Associates Blog
X-ORIGINAL-URL:https://elvilleassociates.com/blogs/6168
X-WR-CALDESC:Events for Elville and Associates Blog
REFRESH-INTERVAL;VALUE=DURATION:PT1H
X-Robots-Tag:noindex
X-PUBLISHED-TTL:PT1H
BEGIN:VTIMEZONE
TZID:America/New_York
BEGIN:DAYLIGHT
TZOFFSETFROM:-0500
TZOFFSETTO:-0400
TZNAME:EDT
DTSTART:20230312T070000
END:DAYLIGHT
BEGIN:STANDARD
TZOFFSETFROM:-0400
TZOFFSETTO:-0500
TZNAME:EST
DTSTART:20231105T060000
END:STANDARD
BEGIN:DAYLIGHT
TZOFFSETFROM:-0500
TZOFFSETTO:-0400
TZNAME:EDT
DTSTART:20240310T070000
END:DAYLIGHT
BEGIN:STANDARD
TZOFFSETFROM:-0400
TZOFFSETTO:-0500
TZNAME:EST
DTSTART:20241103T060000
END:STANDARD
BEGIN:DAYLIGHT
TZOFFSETFROM:-0500
TZOFFSETTO:-0400
TZNAME:EDT
DTSTART:20250309T070000
END:DAYLIGHT
BEGIN:STANDARD
TZOFFSETFROM:-0400
TZOFFSETTO:-0500
TZNAME:EST
DTSTART:20251102T060000
END:STANDARD
END:VTIMEZONE
BEGIN:VEVENT
DTSTART;TZID=America/New_York:20241118T000000
DTEND;TZID=America/New_York:20241120T235900
DTSTAMP:20260422T013912
CREATED:20241219T214332Z
LAST-MODIFIED:20241219T214332Z
UID:75361-1731888000-1732147140@elvilleassociates.com
SUMMARY:Conference – Strategies for Effective Elder Abuse Investigations
DESCRIPTION:The Strategies for Effective Elder Abuse Investigations Conference is designed to provide professionals involved in elder abuse investigations with valuable knowledge and practical strategies to enhance their effectiveness in identifying\, preventing\, and responding to elder abuse cases.\nBy bringing together experts from various fields\, this conference aims to promote collaboration\, share experiences\, and develop effective approaches to combat elder abuse and protect vulnerable adults. The conference program includes a diverse range of topics designed to address the multifaceted aspects of elder abuse investigations\, ensuring attendees leave the event better equipped to handle these complex cases. \nRegistration Link: https://www.elderabuseconference.info/ \nEvent Sponsor: Center for Elder Justice and Education\, Inc. https://elderjusticeandeducation.org/\nContact Person: Andre Lingham (667-352-0295)\nEmail: cfejae2021@gmail.com \n 
URL:https://elvilleassociates.com/blogs/6168/event/conference-strategies-for-effective-elder-abuse-investigations/
CATEGORIES:In-person presentation
ATTACH;FMTTYPE=image/jpeg:https://elvilleassociates.com/blogs/6168/wp-content/uploads/2024/12/cropped-Center-for-Elder-Justice-and-Education-WyfxVq.tmp_.jpg
END:VEVENT
BEGIN:VEVENT
DTSTART;TZID=America/New_York:20241120T050000
DTEND;TZID=America/New_York:20241120T061500
DTSTAMP:20260422T013912
CREATED:20241219T214416Z
LAST-MODIFIED:20241219T214416Z
UID:75381-1732078800-1732083300@elvilleassociates.com
SUMMARY:Webinar – Guardianship: What Is It\, When Is it Appropriate\, and What Are Some Alternatives?
DESCRIPTION:The decision to pursue guardianship — to obtain the legal authority to make decisions for another person — is one that has many intricacies to it and should not be taken lightly.  There are also many alternatives to guardianship to consider as well\, which is why speaking with a qualified attorney is extremely important during the decision making process and throughout the guardianship proceeding.\nJoin Elville and Associates’ Managing Principal and Lead Attorney Stephen R. Elville as he offers this webinar presentation about “Guardianship – What Is It\, When Is It Appropriate\, and What  Are Some Alternatives?”  Topics of discussion will include: \n— What is guardianship? \n— What are the benefits and drawbacks? \n— What are the main questions every family should ask before making the decision to pursue guardianship? \n— What are some of the alternatives to guardianship? \nTo RSVP ahead of time and receive your personal link to attend\, please click here. \nShould you have any questions beforehand\, please contact Community Relations Director Jeff Stauffer at jeff@elvilleassociates.com\, or at 443-393-7696 x117.  We look forward to hosting you! \n#elvilleeducation \n#elvillewebinarseries
URL:https://elvilleassociates.com/blogs/6168/event/webinar-guardianship-what-is-it-when-is-it-appropriate-and-what-are-some-alternatives-6/
CATEGORIES:Webinar
ATTACH;FMTTYPE=image/jpeg:https://elvilleassociates.com/blogs/6168/wp-content/uploads/2024/12/special-needs-disabled-adult-pDGtFg.tmp_.jpg
END:VEVENT
END:VCALENDAR