BEGIN:VCALENDAR
VERSION:2.0
PRODID:-//Elville and Associates Blog - ECPv6.15.11//NONSGML v1.0//EN
CALSCALE:GREGORIAN
METHOD:PUBLISH
X-WR-CALNAME:Elville and Associates Blog
X-ORIGINAL-URL:https://elvilleassociates.com/blogs/6168
X-WR-CALDESC:Events for Elville and Associates Blog
REFRESH-INTERVAL;VALUE=DURATION:PT1H
X-Robots-Tag:noindex
X-PUBLISHED-TTL:PT1H
BEGIN:VTIMEZONE
TZID:America/New_York
BEGIN:DAYLIGHT
TZOFFSETFROM:-0500
TZOFFSETTO:-0400
TZNAME:EDT
DTSTART:20230312T070000
END:DAYLIGHT
BEGIN:STANDARD
TZOFFSETFROM:-0400
TZOFFSETTO:-0500
TZNAME:EST
DTSTART:20231105T060000
END:STANDARD
BEGIN:DAYLIGHT
TZOFFSETFROM:-0500
TZOFFSETTO:-0400
TZNAME:EDT
DTSTART:20240310T070000
END:DAYLIGHT
BEGIN:STANDARD
TZOFFSETFROM:-0400
TZOFFSETTO:-0500
TZNAME:EST
DTSTART:20241103T060000
END:STANDARD
BEGIN:DAYLIGHT
TZOFFSETFROM:-0500
TZOFFSETTO:-0400
TZNAME:EDT
DTSTART:20250309T070000
END:DAYLIGHT
BEGIN:STANDARD
TZOFFSETFROM:-0400
TZOFFSETTO:-0500
TZNAME:EST
DTSTART:20251102T060000
END:STANDARD
END:VTIMEZONE
BEGIN:VEVENT
DTSTART;TZID=America/New_York:20240814T100000
DTEND;TZID=America/New_York:20240814T111500
DTSTAMP:20260422T121910
CREATED:20241219T214345Z
LAST-MODIFIED:20241219T214345Z
UID:75367-1723629600-1723634100@elvilleassociates.com
SUMMARY:Webinar – Estate Planning Essentials
DESCRIPTION:Presented by Elville and Associates’ Senior Associate Attorney Shannon Werbeck\, attendees will be educated about a wide range of topics and leave with a solid foundation of estate planning knowledge to help you\, in partnership with your attorney\, get started with your planning or update your plan that is long overdue.\nSome of the topics Ms. Werbeck will address include: \n— understanding the planning process\, including the reasons for estate planning\n— wills vs. trusts\n— probate vs. non-probate and understanding non-probate devices\n— the absolute importance of incorporating “flexibility” in your planning\n— planning for incapacity\n— understanding the importance of financial powers of attorney\, advance medical directives\n— asset protection for children \nTo register and receive your personal link to attend\, please click here! \nFor most professionals who attend\, 1.5 continuing education hours will be available. \nShould you have any questions before the webinar\, please contact Community Relations Director Jeff Stauffer at jeff@elvilleassociates.com\, or at 443-393-7696 x117. We look forward to hosting you! \n#elvilleeducation\n#elvillewebinarseries
URL:https://elvilleassociates.com/blogs/6168/event/webinar-estate-planning-essentials/
ATTACH;FMTTYPE=image/jpeg:https://elvilleassociates.com/blogs/6168/wp-content/uploads/2024/12/a-fulfilled-family-x9LsEa.tmp_.jpg
END:VEVENT
END:VCALENDAR