BEGIN:VCALENDAR
VERSION:2.0
PRODID:-//Elville and Associates Blog - ECPv6.15.11//NONSGML v1.0//EN
CALSCALE:GREGORIAN
METHOD:PUBLISH
X-ORIGINAL-URL:https://elvilleassociates.com/blogs/6168
X-WR-CALDESC:Events for Elville and Associates Blog
REFRESH-INTERVAL;VALUE=DURATION:PT1H
X-Robots-Tag:noindex
X-PUBLISHED-TTL:PT1H
BEGIN:VTIMEZONE
TZID:America/New_York
BEGIN:DAYLIGHT
TZOFFSETFROM:-0500
TZOFFSETTO:-0400
TZNAME:EDT
DTSTART:20220313T070000
END:DAYLIGHT
BEGIN:STANDARD
TZOFFSETFROM:-0400
TZOFFSETTO:-0500
TZNAME:EST
DTSTART:20221106T060000
END:STANDARD
BEGIN:DAYLIGHT
TZOFFSETFROM:-0500
TZOFFSETTO:-0400
TZNAME:EDT
DTSTART:20230312T070000
END:DAYLIGHT
BEGIN:STANDARD
TZOFFSETFROM:-0400
TZOFFSETTO:-0500
TZNAME:EST
DTSTART:20231105T060000
END:STANDARD
BEGIN:DAYLIGHT
TZOFFSETFROM:-0500
TZOFFSETTO:-0400
TZNAME:EDT
DTSTART:20240310T070000
END:DAYLIGHT
BEGIN:STANDARD
TZOFFSETFROM:-0400
TZOFFSETTO:-0500
TZNAME:EST
DTSTART:20241103T060000
END:STANDARD
END:VTIMEZONE
BEGIN:VEVENT
DTSTART;TZID=America/New_York:20231108T050000
DTEND;TZID=America/New_York:20231108T060000
DTSTAMP:20260425T123858
CREATED:20241219T214216Z
LAST-MODIFIED:20241219T214216Z
UID:75310-1699419600-1699423200@elvilleassociates.com
SUMMARY:Webinar – Aging in Place & Downsizing for Your Next Chapter
DESCRIPTION:Join Elville and Associates as we welcome back Realtors® and Seniors Real Estate Specialists® Donna Weaver and Karen Lawlor with the Wendy Slaughter Team of Elevate Real Estate Brokerage.  Donna and Karen are back to talk about “Aging in Place & Downsizing for Your Next Chapter\,” and will share their thoughts about some of today’s hottest real estate topics\, including:\n1. Market update \n2. Aging in place \n3. Common myths about downsizing \n4. Finding your happy place  \n5. Preparing a home for sale \nAnd\, as always\, they’ll be available to answer any questions you may have for them.  This is a presentation you certainly won’t want to miss! \nTo register for the webinar ahead of time and receive your personal link to attend\, please click here. \nOpen to clients\, financial advisors\, and the general public.  1.0 continuing education hours are available for CFPs®\, CPAs\, and most other professionals who attending this presentation. \nShould you have any questions before the presentation\, please contact Community Relations Director Jeff Stauffer at jeff@elvilleassociates.com\, or 443-393-7696 x117.  We look forward to hosting you!    \n#elvilleeducation \n#elvillewebinarseries
URL:https://elvilleassociates.com/blogs/6168/event/webinar-aging-in-place-downsizing-for-your-next-chapter/
ATTACH;FMTTYPE=image/png:https://elvilleassociates.com/blogs/6168/wp-content/uploads/2024/12/senior-real-estate-pic-WV6BDZ.tmp_.png
END:VEVENT
END:VCALENDAR