BEGIN:VCALENDAR
VERSION:2.0
PRODID:-//Elville and Associates Blog - ECPv6.15.11//NONSGML v1.0//EN
CALSCALE:GREGORIAN
METHOD:PUBLISH
X-ORIGINAL-URL:https://elvilleassociates.com/blogs/6168
X-WR-CALDESC:Events for Elville and Associates Blog
REFRESH-INTERVAL;VALUE=DURATION:PT1H
X-Robots-Tag:noindex
X-PUBLISHED-TTL:PT1H
BEGIN:VTIMEZONE
TZID:America/New_York
BEGIN:DAYLIGHT
TZOFFSETFROM:-0500
TZOFFSETTO:-0400
TZNAME:EDT
DTSTART:20220313T070000
END:DAYLIGHT
BEGIN:STANDARD
TZOFFSETFROM:-0400
TZOFFSETTO:-0500
TZNAME:EST
DTSTART:20221106T060000
END:STANDARD
BEGIN:DAYLIGHT
TZOFFSETFROM:-0500
TZOFFSETTO:-0400
TZNAME:EDT
DTSTART:20230312T070000
END:DAYLIGHT
BEGIN:STANDARD
TZOFFSETFROM:-0400
TZOFFSETTO:-0500
TZNAME:EST
DTSTART:20231105T060000
END:STANDARD
BEGIN:DAYLIGHT
TZOFFSETFROM:-0500
TZOFFSETTO:-0400
TZNAME:EDT
DTSTART:20240310T070000
END:DAYLIGHT
BEGIN:STANDARD
TZOFFSETFROM:-0400
TZOFFSETTO:-0500
TZNAME:EST
DTSTART:20241103T060000
END:STANDARD
END:VTIMEZONE
BEGIN:VEVENT
DTSTART;TZID=America/New_York:20230920T063000
DTEND;TZID=America/New_York:20230920T080000
DTSTAMP:20260425T151622
CREATED:20241219T214158Z
LAST-MODIFIED:20241219T214158Z
UID:75297-1695191400-1695196800@elvilleassociates.com
SUMMARY:Medicare – Which Plan Is Right for You?
DESCRIPTION:Medicare – Which Plan Is Right for You?\nHoward County Public Library – Central Branch (Maxine White Warfield Room) \n10375 Little Patuxent Parkway\, Columbia\, MD 21044 \nJoin Elville and Associates as we welcome and partner with Mr. Donald Oates\, President of Whitehouse Financial Group\, for this timely in person presentation about “Medicare – Which Plan Is Right for You?”  The annual Medicare enrollment period runs from October 15th through December 7th.  Mr. Oates has been a longtime friend to the firm and his expansive knowledge and 38 years in the financial services industry will serve attendees well for this important and helpful topic.  \nAmong the points of discussion will be: \nMedicare Supplement \n\nOpen Enrollment\nGuaranteed Issue\nNew Birthday Rule\n\nPart D Prescription Plans \n\nStandalone Plans\nMAPD\n\nMedicare Advantage Plans \n\nVeterans Plans\nMedicaid Plans/Special Needs Plans\nStandard Plans\n\nMedicare Only \n\nGroup Insurance\n\nTo register ahead of time\, please visit https://live-howardcounty.pantheonsite.io/event/medicare-which-plan-right-you.  Should you have any questions before this in person presentation at Howard County Library’s Central Branch\, please contact Community Relations Director Jeff Stauffer at jeff@elvilleassociates.com\, or at 443-393-7696 x117.  We look forward to hosting you!   \n#elvilleeducation
URL:https://elvilleassociates.com/blogs/6168/event/medicare-which-plan-is-right-for-you/
ATTACH;FMTTYPE=image/jpeg:https://elvilleassociates.com/blogs/6168/wp-content/uploads/2024/12/medicare-5-yF5art.tmp_.jpg
END:VEVENT
END:VCALENDAR